BEGIN:VCALENDAR
VERSION:2.0
PRODID:-//hacksw/handcal//NONSGML v1.0//EN
CALSCALE:GREGORIAN
BEGIN:VEVENT
LOCATION:Girona
DESCRIPTION:
DTSTART:20211126T070000Z
DTEND:20211126T070000Z
SUMMARY:Jornada 'Els nous horitzons del turisme\, a debat'
URL;VALUE=URI:https://arquitectes.cat/ca/content/jornada-els-nous-horitzons-del-turisme-debat
DTSTAMP:20260426T015355Z
UID:69ed54138c901
END:VEVENT
END:VCALENDAR