BEGIN:VCALENDAR
VERSION:2.0
PRODID:-//hacksw/handcal//NONSGML v1.0//EN
CALSCALE:GREGORIAN
BEGIN:VEVENT
LOCATION:Barcelona
DESCRIPTION:
DTSTART:20211126T163000Z
DTEND:20211126T163000Z
SUMMARY:“Never Demolish”: Taula rodona sobre projectes de regeneració social
URL;VALUE=URI:https://arquitectes.cat/ca/content/%E2%80%9Cnever-demolish%E2%80%9D-taula-rodona-sobre-projectes-de-regeneraci%C3%B3-social
DTSTAMP:20260419T144005Z
UID:69e4cd250900d
END:VEVENT
END:VCALENDAR