BEGIN:VCALENDAR
VERSION:2.0
PRODID:-//hacksw/handcal//NONSGML v1.0//EN
CALSCALE:GREGORIAN
BEGIN:VEVENT
LOCATION:Terrassa
DESCRIPTION:
DTSTART:20211104T081500Z
DTEND:20220114T181500Z
SUMMARY:Exposició dels Premis AJAC XII - Terrassa
URL;VALUE=URI:https://arquitectes.cat/ca/content/exposici%C3%B3-dels-premis-ajac-xii-terrassa
DTSTAMP:20260422T083710Z
UID:69e86c960a1f6
END:VEVENT
END:VCALENDAR