BEGIN:VCALENDAR
VERSION:2.0
PRODID:-//hacksw/handcal//NONSGML v1.0//EN
CALSCALE:GREGORIAN
BEGIN:VEVENT
LOCATION:Barcelona
DESCRIPTION:
DTSTART:20211122T170000Z
DTEND:20211123T190000Z
SUMMARY:Arquitectura e Industria 2021 | Materiales y Sistemas
URL;VALUE=URI:https://arquitectes.cat/ca/content/arquitectura-e-industria-2021-materiales-y-sistemas
DTSTAMP:20260419T140333Z
UID:69e4c495323ba
END:VEVENT
END:VCALENDAR