BEGIN:VCALENDAR
VERSION:2.0
PRODID:-//hacksw/handcal//NONSGML v1.0//EN
CALSCALE:GREGORIAN
BEGIN:VEVENT
LOCATION:Vic
DESCRIPTION:
DTSTART:20211124T170000Z
DTEND:20211124T170000Z
SUMMARY:Contenidors d'Art: Barozzi-Veiga
URL;VALUE=URI:https://arquitectes.cat/ca/content/contenidors-dart-barozzi-veiga
DTSTAMP:20260420T002544Z
UID:69e556684ea24
END:VEVENT
END:VCALENDAR