BEGIN:VCALENDAR
VERSION:2.0
PRODID:-//hacksw/handcal//NONSGML v1.0//EN
CALSCALE:GREGORIAN
BEGIN:VEVENT
LOCATION:
DESCRIPTION:
DTSTART:20211113T084500Z
DTEND:20211113T084500Z
SUMMARY:Visita a la Biblioteca-Museu Víctor Balaguer de Vilanova i la Geltrú
URL;VALUE=URI:https://arquitectes.cat/ca/content/visita-la-biblioteca-museu-v%C3%ADctor-balaguer-de-vilanova-i-la-geltr%C3%BA
DTSTAMP:20260425T215408Z
UID:69ed1be02ccef
END:VEVENT
END:VCALENDAR