BEGIN:VCALENDAR
VERSION:2.0
PRODID:-//hacksw/handcal//NONSGML v1.0//EN
CALSCALE:GREGORIAN
BEGIN:VEVENT
LOCATION:Barcelona
DESCRIPTION:
DTSTART:20211116T153000Z
DTEND:20211116T153000Z
SUMMARY:Nova Babilònia. De la utopia possible a les alternatives necessàries
URL;VALUE=URI:https://arquitectes.cat/ca/content/nova-babil%C3%B2nia-de-la-utopia-possible-les-alternatives-necess%C3%A0ries
DTSTAMP:20260423T035749Z
UID:69e97c9d10ec2
END:VEVENT
END:VCALENDAR