BEGIN:VCALENDAR
VERSION:2.0
PRODID:-//hacksw/handcal//NONSGML v1.0//EN
CALSCALE:GREGORIAN
BEGIN:VEVENT
LOCATION:Barcelona
DESCRIPTION:
DTSTART:20211121T090000Z
DTEND:20211121T090000Z
SUMMARY:Deriva neobabiloniana
URL;VALUE=URI:https://arquitectes.cat/ca/content/deriva-neobabiloniana
DTSTAMP:20260423T091008Z
UID:69e9c5d08ac09
END:VEVENT
END:VCALENDAR