BEGIN:VCALENDAR
VERSION:2.0
PRODID:-//hacksw/handcal//NONSGML v1.0//EN
CALSCALE:GREGORIAN
BEGIN:VEVENT
LOCATION:Olot
DESCRIPTION:
DTSTART:20211112T160000Z
DTEND:20211112T220000Z
SUMMARY:“InSubMissió” en el Festival Lluèrnia
URL;VALUE=URI:https://arquitectes.cat/ca/node/36558
DTSTAMP:20260421T222946Z
UID:69e7de3a19ab3
END:VEVENT
END:VCALENDAR