BEGIN:VCALENDAR
VERSION:2.0
PRODID:-//hacksw/handcal//NONSGML v1.0//EN
CALSCALE:GREGORIAN
BEGIN:VEVENT
LOCATION:Barcelona
DESCRIPTION:
DTSTART:20211109T163000Z
DTEND:20211109T163000Z
SUMMARY:Presentació de les bases dels Premis Habitàcola: "4 potes"
URL;VALUE=URI:https://arquitectes.cat/ca/content/presentaci%C3%B3-de-les-bases-dels-premis-habit%C3%A0cola-4-potes
DTSTAMP:20260420T000250Z
UID:69e5510a15f7d
END:VEVENT
END:VCALENDAR