BEGIN:VCALENDAR
VERSION:2.0
PRODID:-//hacksw/handcal//NONSGML v1.0//EN
CALSCALE:GREGORIAN
BEGIN:VEVENT
LOCATION:Girona
DESCRIPTION:
DTSTART:20211112T173000Z
DTEND:20211112T173000Z
SUMMARY:Cicle "Concerts al pati: Quartet Jujol"
URL;VALUE=URI:https://arquitectes.cat/ca/content/cicle-concerts-al-pati-quartet-jujol
DTSTAMP:20260422T124042Z
UID:69e8a5aaea931
END:VEVENT
END:VCALENDAR