BEGIN:VCALENDAR
VERSION:2.0
PRODID:-//hacksw/handcal//NONSGML v1.0//EN
CALSCALE:GREGORIAN
BEGIN:VEVENT
LOCATION:En línia
DESCRIPTION:
DTSTART:20211025T150000Z
DTEND:20211026T163000Z
SUMMARY:Sustainable Challenge Open Expert Talks
URL;VALUE=URI:https://arquitectes.cat/ca/content/sustainable-challenge-open-expert-talks
DTSTAMP:20260423T002018Z
UID:69e949a233c9d
END:VEVENT
END:VCALENDAR