BEGIN:VCALENDAR
VERSION:2.0
PRODID:-//hacksw/handcal//NONSGML v1.0//EN
CALSCALE:GREGORIAN
BEGIN:VEVENT
LOCATION:Barcelona
DESCRIPTION:
DTSTART:20211028T140000Z
DTEND:20211028T140000Z
SUMMARY:V Jornada de Renaturalització d'espais educatius. Patis x Clima
URL;VALUE=URI:https://arquitectes.cat/ca/content/v-jornada-de-renaturalitzaci%C3%B3-despais-educatius-patis-x-clima
DTSTAMP:20260420T003459Z
UID:69e5589375d47
END:VEVENT
END:VCALENDAR