BEGIN:VCALENDAR
VERSION:2.0
PRODID:-//hacksw/handcal//NONSGML v1.0//EN
CALSCALE:GREGORIAN
BEGIN:VEVENT
LOCATION:Lleida
DESCRIPTION:
DTSTART:20211014T190000Z
DTEND:20211014T190000Z
SUMMARY:Arquitectour Debate: "Reflexiones sobre el modelo de la escuela del futuro"
URL;VALUE=URI:https://arquitectes.cat/ca/node/36436
DTSTAMP:20260419T205403Z
UID:69e524cb0a90f
END:VEVENT
END:VCALENDAR