BEGIN:VCALENDAR
VERSION:2.0
PRODID:-//hacksw/handcal//NONSGML v1.0//EN
CALSCALE:GREGORIAN
BEGIN:VEVENT
LOCATION:Barcelona
DESCRIPTION:
DTSTART:20211023T160000Z
DTEND:20211024T160000Z
SUMMARY:Festival d'Arquitectura 48h Open House BCN
URL;VALUE=URI:https://arquitectes.cat/ca/content/festival-darquitectura-48h-open-house-bcn
DTSTAMP:20260422T154229Z
UID:69e8d045b1022
END:VEVENT
END:VCALENDAR