BEGIN:VCALENDAR
VERSION:2.0
PRODID:-//hacksw/handcal//NONSGML v1.0//EN
CALSCALE:GREGORIAN
BEGIN:VEVENT
LOCATION:Tortosa
DESCRIPTION:
DTSTART:20211008T080000Z
DTEND:20211012T154500Z
SUMMARY:Festival d’Intervencions Efímeres A Cel Obert
URL;VALUE=URI:https://arquitectes.cat/ca/content/festival-d%E2%80%99intervencions-ef%C3%ADmeres-cel-obert
DTSTAMP:20260419T203224Z
UID:69e51fb84210a
END:VEVENT
END:VCALENDAR