BEGIN:VCALENDAR
VERSION:2.0
PRODID:-//hacksw/handcal//NONSGML v1.0//EN
CALSCALE:GREGORIAN
BEGIN:VEVENT
LOCATION:Girona
DESCRIPTION:
DTSTART:20211020T170000Z
DTEND:20211020T170000Z
SUMMARY:Neutralitat climàtica i descarbonització
URL;VALUE=URI:https://arquitectes.cat/ca/content/neutralitat-clim%C3%A0tica-i-descarbonitzaci%C3%B3
DTSTAMP:20260423T054919Z
UID:69e996bfe8873
END:VEVENT
END:VCALENDAR