BEGIN:VCALENDAR
VERSION:2.0
PRODID:-//hacksw/handcal//NONSGML v1.0//EN
CALSCALE:GREGORIAN
BEGIN:VEVENT
LOCATION:Barcelona
DESCRIPTION:
DTSTART:20210918T150000Z
DTEND:20210918T150000Z
SUMMARY:Moure parets
URL;VALUE=URI:https://arquitectes.cat/ca/content/moure-parets
DTSTAMP:20260419T200243Z
UID:69e518c3d4cf3
END:VEVENT
END:VCALENDAR