BEGIN:VCALENDAR
VERSION:2.0
PRODID:-//hacksw/handcal//NONSGML v1.0//EN
CALSCALE:GREGORIAN
BEGIN:VEVENT
LOCATION:Terrassa
DESCRIPTION:
DTSTART:20211010T081500Z
DTEND:20211010T081500Z
SUMMARY:#JEP | Passejada per les voltes del MNACTEC
URL;VALUE=URI:https://arquitectes.cat/ca/content/jep-passejada-les-voltes-del-mnactec-0
DTSTAMP:20260420T034610Z
UID:69e585620a977
END:VEVENT
END:VCALENDAR