BEGIN:VCALENDAR
VERSION:2.0
PRODID:-//hacksw/handcal//NONSGML v1.0//EN
CALSCALE:GREGORIAN
BEGIN:VEVENT
LOCATION:Terrassa
DESCRIPTION:
DTSTART:20211009T150000Z
DTEND:20211009T150000Z
SUMMARY:#JEP | Visita teatralitzada "1909. Un passeig per la fàbrica"
URL;VALUE=URI:https://arquitectes.cat/ca/content/jep-visita-teatralitzada-1909-un-passeig-la-f%C3%A0brica
DTSTAMP:20260420T034720Z
UID:69e585a8be544
END:VEVENT
END:VCALENDAR