BEGIN:VCALENDAR
VERSION:2.0
PRODID:-//hacksw/handcal//NONSGML v1.0//EN
CALSCALE:GREGORIAN
BEGIN:VEVENT
LOCATION:Terrassa
DESCRIPTION:
DTSTART:20211205T080000Z
DTEND:20211205T080000Z
SUMMARY:Jornada de portes obertes al MNACTEC
URL;VALUE=URI:https://arquitectes.cat/ca/content/jornada-de-portes-obertes-al-mnactec-6
DTSTAMP:20260419T153156Z
UID:69e4d94c18f84
END:VEVENT
END:VCALENDAR