BEGIN:VCALENDAR
VERSION:2.0
PRODID:-//hacksw/handcal//NONSGML v1.0//EN
CALSCALE:GREGORIAN
BEGIN:VEVENT
LOCATION:Barcelona
DESCRIPTION:
DTSTART:20210628T080000Z
DTEND:20210916T180000Z
SUMMARY:Exposició “Camp/contracamp: flâneur 360” - XV BEAU 
URL;VALUE=URI:https://arquitectes.cat/ca/content/exposici%C3%B3-%E2%80%9Ccampcontracamp-fl%C3%A2neur-360%E2%80%9D-xv-beau
DTSTAMP:20260419T201801Z
UID:69e51c59a1fe5
END:VEVENT
END:VCALENDAR