BEGIN:VCALENDAR
VERSION:2.0
PRODID:-//hacksw/handcal//NONSGML v1.0//EN
CALSCALE:GREGORIAN
BEGIN:VEVENT
LOCATION:Barcelona
DESCRIPTION:
DTSTART:20210916T160000Z
DTEND:20210916T160000Z
SUMMARY:Les Dones Fem Recerca
URL;VALUE=URI:https://arquitectes.cat/ca/content/les-dones-fem-recerca
DTSTAMP:20260419T200339Z
UID:69e518fb70b85
END:VEVENT
END:VCALENDAR