BEGIN:VCALENDAR
VERSION:2.0
PRODID:-//hacksw/handcal//NONSGML v1.0//EN
CALSCALE:GREGORIAN
BEGIN:VEVENT
LOCATION:Barcelona
DESCRIPTION:
DTSTART:20210720T160000Z
DTEND:20210720T160000Z
SUMMARY:Debate sobre la ampliación del Aeropuerto del Prat 
URL;VALUE=URI:https://arquitectes.cat/ca/node/36219
DTSTAMP:20260426T000020Z
UID:69ed39744d179
END:VEVENT
END:VCALENDAR