BEGIN:VCALENDAR
VERSION:2.0
PRODID:-//hacksw/handcal//NONSGML v1.0//EN
CALSCALE:GREGORIAN
BEGIN:VEVENT
LOCATION:Barcelona
DESCRIPTION:
DTSTART:20210703T080000Z
DTEND:20210703T080000Z
SUMMARY:Nou itinerari guiat pel barri de Montbau
URL;VALUE=URI:https://arquitectes.cat/ca/content/nou-itinerari-guiat-pel-barri-de-montbau
DTSTAMP:20260419T142945Z
UID:69e4cab9e0508
END:VEVENT
END:VCALENDAR