BEGIN:VCALENDAR
VERSION:2.0
PRODID:-//hacksw/handcal//NONSGML v1.0//EN
CALSCALE:GREGORIAN
BEGIN:VEVENT
LOCATION:En línia
DESCRIPTION:
DTSTART:20210611T180000Z
DTEND:20210611T180000Z
SUMMARY:Cicle 'Les obres i els seus autors'. Episodi 6: Una casa de pueblo en Masarac
URL;VALUE=URI:https://arquitectes.cat/ca/node/36062
DTSTAMP:20260426T042305Z
UID:69ed77090cee0
END:VEVENT
END:VCALENDAR