BEGIN:VCALENDAR
VERSION:2.0
PRODID:-//hacksw/handcal//NONSGML v1.0//EN
CALSCALE:GREGORIAN
BEGIN:VEVENT
LOCATION:Barcelona
DESCRIPTION:
DTSTART:20210514T094500Z
DTEND:20220109T130000Z
SUMMARY:En temps real. La Col·lecció Rafael Tous d’art conceptual
URL;VALUE=URI:https://arquitectes.cat/ca/content/en-temps-real-la-col%C2%B7lecci%C3%B3-rafael-tous-d%E2%80%99art-conceptual
DTSTAMP:20260419T155951Z
UID:69e4dfd795732
END:VEVENT
END:VCALENDAR