BEGIN:VCALENDAR
VERSION:2.0
PRODID:-//hacksw/handcal//NONSGML v1.0//EN
CALSCALE:GREGORIAN
BEGIN:VEVENT
LOCATION:Barcelona
DESCRIPTION:
DTSTART:20210715T080000Z
DTEND:20211031T180000Z
SUMMARY:Exposició: L'univers de Jean Prouvé. Arquitectura / indústria / mobiliari
URL;VALUE=URI:https://arquitectes.cat/ca/content/exposici%C3%B3-lunivers-de-jean-prouv%C3%A9-arquitectura-ind%C3%BAstria-mobiliari
DTSTAMP:20260420T031545Z
UID:69e57e41620b2
END:VEVENT
END:VCALENDAR