BEGIN:VCALENDAR
VERSION:2.0
PRODID:-//hacksw/handcal//NONSGML v1.0//EN
CALSCALE:GREGORIAN
BEGIN:VEVENT
LOCATION:
DESCRIPTION:
DTSTART:20210604T090000Z
DTEND:20210604T090000Z
SUMMARY:Presentación del libro "Una ciudad de profesiones"
URL;VALUE=URI:https://arquitectes.cat/ca/node/35981
DTSTAMP:20260425T002132Z
UID:69ebececad99b
END:VEVENT
END:VCALENDAR