BEGIN:VCALENDAR
VERSION:2.0
PRODID:-//hacksw/handcal//NONSGML v1.0//EN
CALSCALE:GREGORIAN
BEGIN:VEVENT
LOCATION:En línia
DESCRIPTION:
DTSTART:20210602T140000Z
DTEND:20210602T140000Z
SUMMARY:"El patrimonio arquitectónico en Shanghai\, del pasado al presente a través de dos aproximaciones"
URL;VALUE=URI:https://arquitectes.cat/ca/content/el-patrimonio-arquitect%C3%B3nico-en-shanghai-del-pasado-al-presente-trav%C3%A9s-de-dos-aproximaciones
DTSTAMP:20260425T181131Z
UID:69ece7b378f69
END:VEVENT
END:VCALENDAR