BEGIN:VCALENDAR
VERSION:2.0
PRODID:-//hacksw/handcal//NONSGML v1.0//EN
CALSCALE:GREGORIAN
BEGIN:VEVENT
LOCATION:En línia
DESCRIPTION:
DTSTART:20210525T063000Z
DTEND:20210527T093000Z
SUMMARY:Jornades: Transformacions urbanes i la problemàtica de l’habitatge a Barcelona
URL;VALUE=URI:https://arquitectes.cat/ca/content/jornades-transformacions-urbanes-i-la-problem%C3%A0tica-de-l%E2%80%99habitatge-barcelona
DTSTAMP:20260419T192327Z
UID:69e50f8fd3f9e
END:VEVENT
END:VCALENDAR