BEGIN:VCALENDAR
VERSION:2.0
PRODID:-//hacksw/handcal//NONSGML v1.0//EN
CALSCALE:GREGORIAN
BEGIN:VEVENT
LOCATION:Girona
DESCRIPTION:
DTSTART:20210525T073000Z
DTEND:20210525T073000Z
SUMMARY:Jornada “Equipaments i Renovació Urbana”
URL;VALUE=URI:https://arquitectes.cat/ca/content/jornada-%E2%80%9Cequipaments-i-renovaci%C3%B3-urbana%E2%80%9D
DTSTAMP:20260423T003236Z
UID:69e94c843cb4f
END:VEVENT
END:VCALENDAR