BEGIN:VCALENDAR
VERSION:2.0
PRODID:-//hacksw/handcal//NONSGML v1.0//EN
CALSCALE:GREGORIAN
BEGIN:VEVENT
LOCATION:Barcelona
DESCRIPTION:
DTSTART:20210514T160000Z
DTEND:20210514T160000Z
SUMMARY:Arquitectura per al Futur: Landscapes of care – Dia 2: Projecció de “Two Houses” i debat
URL;VALUE=URI:https://arquitectes.cat/ca/content/arquitectura-al-futur-landscapes-care-%E2%80%93-dia-2-projecci%C3%B3-de-%E2%80%9Ctwo-houses%E2%80%9D-i-debat
DTSTAMP:20260425T235624Z
UID:69ed38883688e
END:VEVENT
END:VCALENDAR