BEGIN:VCALENDAR
VERSION:2.0
PRODID:-//hacksw/handcal//NONSGML v1.0//EN
CALSCALE:GREGORIAN
BEGIN:VEVENT
LOCATION:Barcelona
DESCRIPTION:
DTSTART:20210507T083000Z
DTEND:20210507T083000Z
SUMMARY:La Nova Bauhaus Europea – Una conversa oberta
URL;VALUE=URI:https://arquitectes.cat/ca/content/la-nova-bauhaus-europea-%E2%80%93-una-conversa-oberta
DTSTAMP:20260419T235738Z
UID:69e54fd20f8c2
END:VEVENT
END:VCALENDAR