BEGIN:VCALENDAR
VERSION:2.0
PRODID:-//hacksw/handcal//NONSGML v1.0//EN
CALSCALE:GREGORIAN
BEGIN:VEVENT
LOCATION:Barcelona
DESCRIPTION:
DTSTART:20210430T070000Z
DTEND:20210611T160000Z
SUMMARY:Exposició "Job Title: Art Director. About Vogue Spain. Design\, Typography & Photography"
URL;VALUE=URI:https://arquitectes.cat/ca/content/exposici%C3%B3-job-title-art-director-about-vogue-spain-design-typography-photography
DTSTAMP:20260419T200635Z
UID:69e519ab2de83
END:VEVENT
END:VCALENDAR