BEGIN:VCALENDAR
VERSION:2.0
PRODID:-//hacksw/handcal//NONSGML v1.0//EN
CALSCALE:GREGORIAN
BEGIN:VEVENT
LOCATION:Barcelona
DESCRIPTION:
DTSTART:20210430T153000Z
DTEND:20211031T153000Z
SUMMARY:Exposició: Incert Equilibri\, Txemy Basualto
URL;VALUE=URI:https://arquitectes.cat/ca/content/exposici%C3%B3-incert-equilibri-txemy-basualto
DTSTAMP:20260425T040109Z
UID:69ec20658eddf
END:VEVENT
END:VCALENDAR