BEGIN:VCALENDAR
VERSION:2.0
PRODID:-//hacksw/handcal//NONSGML v1.0//EN
CALSCALE:GREGORIAN
BEGIN:VEVENT
LOCATION:Barcelona
DESCRIPTION:
DTSTART:20210515T170000Z
DTEND:20210515T170000Z
SUMMARY:Arqu[in]film’21: documental «The White Cube»
URL;VALUE=URI:https://arquitectes.cat/ca/content/arquinfilm%E2%80%9921-documental-%C2%ABthe-white-cube%C2%BB-0
DTSTAMP:20260419T163104Z
UID:69e4e728022b5
END:VEVENT
END:VCALENDAR