BEGIN:VCALENDAR
VERSION:2.0
PRODID:-//hacksw/handcal//NONSGML v1.0//EN
CALSCALE:GREGORIAN
BEGIN:VEVENT
LOCATION:Barcelona
DESCRIPTION:
DTSTART:20210512T140000Z
DTEND:20210516T140000Z
SUMMARY:VII Edició d’Arqu[in]Film\, "Arquitectura i Poder"
URL;VALUE=URI:https://arquitectes.cat/ca/content/vii-edici%C3%B3-d%E2%80%99arquinfilm-arquitectura-i-poder
DTSTAMP:20260419T193639Z
UID:69e512a747a2a
END:VEVENT
END:VCALENDAR