BEGIN:VCALENDAR
VERSION:2.0
PRODID:-//hacksw/handcal//NONSGML v1.0//EN
CALSCALE:GREGORIAN
BEGIN:VEVENT
LOCATION:Barcelona
DESCRIPTION:
DTSTART:20210422T070000Z
DTEND:20210703T180000Z
SUMMARY:Exposició: "Montbau\, 1958-1964. Entre Arquitectura i Harmonia"
URL;VALUE=URI:https://arquitectes.cat/ca/content/exposici%C3%B3-montbau-1958-1964-entre-arquitectura-i-harmonia
DTSTAMP:20260421T052347Z
UID:69e6edc30d38d
END:VEVENT
END:VCALENDAR