BEGIN:VCALENDAR
VERSION:2.0
PRODID:-//hacksw/handcal//NONSGML v1.0//EN
CALSCALE:GREGORIAN
BEGIN:VEVENT
LOCATION:Barcelona
DESCRIPTION:
DTSTART:20210628T070000Z
DTEND:20210730T150000Z
SUMMARY:Culturnautes 2021. The CCCB’s summer day camp
URL;VALUE=URI:https://arquitectes.cat/ca/node/35693
DTSTAMP:20260420T033220Z
UID:69e582246ebf4
END:VEVENT
END:VCALENDAR