BEGIN:VCALENDAR
VERSION:2.0
PRODID:-//hacksw/handcal//NONSGML v1.0//EN
CALSCALE:GREGORIAN
BEGIN:VEVENT
LOCATION:En línia
DESCRIPTION:
DTSTART:20210415T173000Z
DTEND:20210415T173000Z
SUMMARY:Conferencia Carme Pinós
URL;VALUE=URI:https://arquitectes.cat/ca/node/35642
DTSTAMP:20260422T221444Z
UID:69e92c3417429
END:VEVENT
END:VCALENDAR