BEGIN:VCALENDAR
VERSION:2.0
PRODID:-//hacksw/handcal//NONSGML v1.0//EN
CALSCALE:GREGORIAN
BEGIN:VEVENT
LOCATION:Barcelona
DESCRIPTION:
DTSTART:20210415T080000Z
DTEND:20210418T180000Z
SUMMARY:Intervenció: Beautiful failures
URL;VALUE=URI:https://arquitectes.cat/ca/content/intervenci%C3%B3-beautiful-failures
DTSTAMP:20260419T163228Z
UID:69e4e77caf04a
END:VEVENT
END:VCALENDAR