BEGIN:VCALENDAR
VERSION:2.0
PRODID:-//hacksw/handcal//NONSGML v1.0//EN
CALSCALE:GREGORIAN
BEGIN:VEVENT
LOCATION:Barcelona
DESCRIPTION:
DTSTART:20210414T163000Z
DTEND:20210428T180000Z
SUMMARY:Ciutat i democràcia. Idées clàssiques per al món que ve. A càrrec de Jordi Graupera
URL;VALUE=URI:https://arquitectes.cat/ca/content/ciutat-i-democr%C3%A0cia-id%C3%A9es-cl%C3%A0ssiques-al-m%C3%B3n-que-ve-c%C3%A0rrec-de-jordi-graupera
DTSTAMP:20260425T200707Z
UID:69ed02cb134c7
END:VEVENT
END:VCALENDAR