BEGIN:VCALENDAR
VERSION:2.0
PRODID:-//hacksw/handcal//NONSGML v1.0//EN
CALSCALE:GREGORIAN
BEGIN:VEVENT
LOCATION:En línia
DESCRIPTION:
DTSTART:20210329T170000Z
DTEND:20210329T170000Z
SUMMARY:Diàleg d'Història Urbana i Patrimoni "Barcelona i Guinea: Una història de relacions colonials"
URL;VALUE=URI:https://arquitectes.cat/ca/content/di%C3%A0leg-dhist%C3%B2ria-urbana-i-patrimoni-barcelona-i-guinea-una-hist%C3%B2ria-de-relacions-colonials
DTSTAMP:20260419T184814Z
UID:69e5074e98c9c
END:VEVENT
END:VCALENDAR