BEGIN:VCALENDAR
VERSION:2.0
PRODID:-//hacksw/handcal//NONSGML v1.0//EN
CALSCALE:GREGORIAN
BEGIN:VEVENT
LOCATION:Terrassa
DESCRIPTION:
DTSTART:20210606T080000Z
DTEND:20210606T080000Z
SUMMARY:Jornada de portes obertes
URL;VALUE=URI:https://arquitectes.cat/ca/content/jornada-de-portes-obertes-2
DTSTAMP:20260419T225845Z
UID:69e54205c99ea
END:VEVENT
END:VCALENDAR