BEGIN:VCALENDAR
VERSION:2.0
PRODID:-//hacksw/handcal//NONSGML v1.0//EN
CALSCALE:GREGORIAN
BEGIN:VEVENT
LOCATION:Lleida
DESCRIPTION:
DTSTART:20210412T090000Z
DTEND:20210601T140000Z
SUMMARY:Exposición “Per Durar”
URL;VALUE=URI:https://arquitectes.cat/ca/node/35573
DTSTAMP:20260419T184944Z
UID:69e507a8c3287
END:VEVENT
END:VCALENDAR