BEGIN:VCALENDAR
VERSION:2.0
PRODID:-//hacksw/handcal//NONSGML v1.0//EN
CALSCALE:GREGORIAN
BEGIN:VEVENT
LOCATION:En línia
DESCRIPTION:
DTSTART:20210526T100000Z
DTEND:20210526T100000Z
SUMMARY:CulturTalks - Josep Lluís Mateo: 'Present time. Practicing Architecture during COVID'
URL;VALUE=URI:https://arquitectes.cat/ca/content/culturtalks-josep-llu%C3%ADs-mateo-present-time-practicing-architecture-during-covid
DTSTAMP:20260420T033450Z
UID:69e582ba6ad8b
END:VEVENT
END:VCALENDAR