BEGIN:VCALENDAR
VERSION:2.0
PRODID:-//hacksw/handcal//NONSGML v1.0//EN
CALSCALE:GREGORIAN
BEGIN:VEVENT
LOCATION:Barcelona
DESCRIPTION:
DTSTART:20210318T153000Z
DTEND:20210318T153000Z
SUMMARY:Design with Impact
URL;VALUE=URI:https://arquitectes.cat/ca/content/design-impact-0
DTSTAMP:20260425T190940Z
UID:69ecf5543d650
END:VEVENT
END:VCALENDAR