BEGIN:VCALENDAR
VERSION:2.0
PRODID:-//hacksw/handcal//NONSGML v1.0//EN
CALSCALE:GREGORIAN
BEGIN:VEVENT
LOCATION:Barcelona
DESCRIPTION:
DTSTART:20210317T100000Z
DTEND:20210317T100000Z
SUMMARY:Ciclo CulturTalks -  Ábalos + Sentkiewicz | Architects: Form/Matter/Flow. New Primitivism
URL;VALUE=URI:https://arquitectes.cat/ca/node/35496
DTSTAMP:20260419T182915Z
UID:69e502db5ed1f
END:VEVENT
END:VCALENDAR