BEGIN:VCALENDAR
VERSION:2.0
PRODID:-//hacksw/handcal//NONSGML v1.0//EN
CALSCALE:GREGORIAN
BEGIN:VEVENT
LOCATION:Barcelona
DESCRIPTION:
DTSTART:20210317T100000Z
DTEND:20210317T100000Z
SUMMARY:Cicle CulturTalks - Ábalos + Sentkiewicz | Architects: Form/Matter/Flow. New Primitivism
URL;VALUE=URI:https://arquitectes.cat/ca/content/cicle-culturtalks-%C3%A1balos-sentkiewicz-architects-formmatterflow-new-primitivism
DTSTAMP:20260419T145458Z
UID:69e4d0a257b90
END:VEVENT
END:VCALENDAR